BEGIN:VCALENDAR
VERSION:2.0
METHOD:print PUBLISH
X-WR-CALNAME;VALUE=TEXT:Kalendář | Geologický ústav AV ČR\, v. v. i.
PRODID:-//Drupal iCal API//EN
BEGIN:VEVENT
UID:calendar.63.changed.0.0
SUMMARY:Library
DTSTAMP:20260421T111519Z
DTSTART:20260421Z
DTEND:20260422Z
1776751179
URL;VALUE=URI:https://www.gli.cas.cz/cs/node/63
END:VEVENT
BEGIN:VEVENT
UID:calendar.62.changed.0.1
SUMMARY:Knihovna
DTSTAMP:20260421T111519Z
DTSTART:20260421Z
DTEND:20260422Z
1776751179
URL;VALUE=URI:https://www.gli.cas.cz/cs/skupina/knihovna
END:VEVENT
END:VCALENDAR
