BEGIN:VCALENDAR
VERSION:2.0
METHOD:print PUBLISH
X-WR-CALNAME;VALUE=TEXT:Calendar | Institute of Geology of the Czech Academy of Sciences
PRODID:-//Drupal iCal API//EN
BEGIN:VEVENT
UID:calendar.80.changed.0.0
SUMMARY:Výroční zprávy\, rozpočet\, střednědobý výhled a další dokumenty
DTSTAMP:20260424T165109Z
DTSTART:20260424Z
DTEND:20260425Z
1777029201
URL;VALUE=URI:https://www.gli.cas.cz/en/vyrocni-zpravy-rozpocet-strednedoby-vyhled-dalsi-dokumenty
END:VEVENT
END:VCALENDAR
